BEGIN:VCALENDAR
VERSION:2.0
PRODID:-//Compagnie Circonvolution - ECPv5.13.0//NONSGML v1.0//EN
CALSCALE:GREGORIAN
METHOD:PUBLISH
X-WR-CALNAME:Compagnie Circonvolution
X-ORIGINAL-URL:http://compagnie-circonvolution.com
X-WR-CALDESC:évènements pour Compagnie Circonvolution
REFRESH-INTERVAL;VALUE=DURATION:PT1H
X-Robots-Tag:noindex
X-PUBLISHED-TTL:PT1H
BEGIN:VTIMEZONE
TZID:Europe/Zurich
BEGIN:DAYLIGHT
TZOFFSETFROM:+0100
TZOFFSETTO:+0200
TZNAME:CEST
DTSTART:20240331T010000
END:DAYLIGHT
BEGIN:STANDARD
TZOFFSETFROM:+0200
TZOFFSETTO:+0100
TZNAME:CET
DTSTART:20241027T010000
END:STANDARD
END:VTIMEZONE
BEGIN:VEVENT
DTSTART;VALUE=DATE:20240217
DTEND;VALUE=DATE:20240218
DTSTAMP:20260420T114750
CREATED:20231221T082455Z
LAST-MODIFIED:20231221T082455Z
UID:29513-1708128000-1708214399@compagnie-circonvolution.com
SUMMARY:Hypo\, Glisse & Mi
DESCRIPTION:Représentation du spectacle de cirque « Hypo\, Glisse & Mi » à 17h à la salle des fêtes de Saint-Just-d’Avray (69) dans le cadre du Carnaval du village
URL:http://compagnie-circonvolution.com/event/hypo-glisse-mi-40/
LOCATION:Saint Just d’Avray\, Saint Just d'Avray\, 69870
ATTACH;FMTTYPE=image/jpeg:http://compagnie-circonvolution.com/wp-content/uploads/2022/08/Hypo-Interieur-16-9.jpg
END:VEVENT
BEGIN:VEVENT
DTSTART;VALUE=DATE:20240221
DTEND;VALUE=DATE:20240222
DTSTAMP:20260420T114750
CREATED:20240116T104310Z
LAST-MODIFIED:20240304T112342Z
UID:29518-1708473600-1708559999@compagnie-circonvolution.com
SUMMARY:D’une mouche\, un éléphant
DESCRIPTION:Représentation du spectacle « D’une mouche\, un éléphant » à la maison Folie Beaulieu de Lomme / Lille (59) dans le cadre du petit mois.
URL:http://compagnie-circonvolution.com/event/dune-mouche-un-elephant-15/
LOCATION:Maison Folie Beaulieu\, Lomme\, Lille
ATTACH;FMTTYPE=image/jpeg:http://compagnie-circonvolution.com/wp-content/uploads/2024/03/Mouche-16-9-scaled.jpg
END:VEVENT
BEGIN:VEVENT
DTSTART;VALUE=DATE:20240223
DTEND;VALUE=DATE:20240224
DTSTAMP:20260420T114750
CREATED:20231221T080200Z
LAST-MODIFIED:20231221T080200Z
UID:29503-1708646400-1708732799@compagnie-circonvolution.com
SUMMARY:Hypo\, Glisse & Mi
DESCRIPTION:Représentation du spectacle de cirque « Hypo\, Glisse & Mi » à 17h15 à la salle des fêtes d’Illiès (59) pour l’association de parents d’élèves de l’école Jean Monnet
URL:http://compagnie-circonvolution.com/event/hypo-glisse-mi-39/
LOCATION:Illiès\, Illiès\, 59480\, France
ATTACH;FMTTYPE=image/jpeg:http://compagnie-circonvolution.com/wp-content/uploads/2022/03/Hypo-16-9-Ronchin.jpg
END:VEVENT
END:VCALENDAR