BEGIN:VCALENDAR
VERSION:2.0
PRODID:-//Compagnie Circonvolution - ECPv5.13.0//NONSGML v1.0//EN
CALSCALE:GREGORIAN
METHOD:PUBLISH
X-WR-CALNAME:Compagnie Circonvolution
X-ORIGINAL-URL:http://compagnie-circonvolution.com
X-WR-CALDESC:évènements pour Compagnie Circonvolution
REFRESH-INTERVAL;VALUE=DURATION:PT1H
X-Robots-Tag:noindex
X-PUBLISHED-TTL:PT1H
BEGIN:VTIMEZONE
TZID:Europe/Zurich
BEGIN:DAYLIGHT
TZOFFSETFROM:+0100
TZOFFSETTO:+0200
TZNAME:CEST
DTSTART:20230326T010000
END:DAYLIGHT
BEGIN:STANDARD
TZOFFSETFROM:+0200
TZOFFSETTO:+0100
TZNAME:CET
DTSTART:20231029T010000
END:STANDARD
END:VTIMEZONE
BEGIN:VEVENT
DTSTART;VALUE=DATE:20231017
DTEND;VALUE=DATE:20231021
DTSTAMP:20260420T191629
CREATED:20230627T100231Z
LAST-MODIFIED:20230627T100231Z
UID:29422-1697500800-1697846399@compagnie-circonvolution.com
SUMMARY:D'une mouche\, un éléphant
DESCRIPTION:Premières représentations du spectacle « D’une mouche\, un éléphant » à l’Espace 600\, scène conventionnée d’intérêt national art\, enfance\, jeunesse à Grenoble (38)
URL:http://compagnie-circonvolution.com/event/dune-mouche-un-elephant-10/
LOCATION:Espace 600\, scène conventionnée d’intérêt national « art\, enfance\, jeunesse »\, Ecole Jean Racine\, Grenoble\, 38000
ATTACH;FMTTYPE=image/jpeg:http://compagnie-circonvolution.com/wp-content/uploads/2023/01/16-9-Elephants-Beaucoup-d-elephants.jpg
END:VEVENT
BEGIN:VEVENT
DTSTART;VALUE=DATE:20231025
DTEND;VALUE=DATE:20231026
DTSTAMP:20260420T191629
CREATED:20230627T100427Z
LAST-MODIFIED:20230627T100427Z
UID:29424-1698192000-1698278399@compagnie-circonvolution.com
SUMMARY:D'une mouche\, un éléphant
DESCRIPTION:Premières représentations du spectacle « D’une mouche\, un éléphant » à l’Espace 600\, scène conventionnée d’intérêt national art\, enfance\, jeunesse à Grenoble (38)
URL:http://compagnie-circonvolution.com/event/dune-mouche-un-elephant-11/
LOCATION:Espace 600\, scène conventionnée d’intérêt national « art\, enfance\, jeunesse »\, Ecole Jean Racine\, Grenoble\, 38000
ATTACH;FMTTYPE=image/jpeg:http://compagnie-circonvolution.com/wp-content/uploads/2023/01/16-9-Elephants-Beaucoup-d-elephants.jpg
END:VEVENT
END:VCALENDAR