BEGIN:VCALENDAR
VERSION:2.0
PRODID:-//Compagnie Circonvolution - ECPv5.13.0//NONSGML v1.0//EN
CALSCALE:GREGORIAN
METHOD:PUBLISH
X-WR-CALNAME:Compagnie Circonvolution
X-ORIGINAL-URL:http://compagnie-circonvolution.com
X-WR-CALDESC:évènements pour Compagnie Circonvolution
REFRESH-INTERVAL;VALUE=DURATION:PT1H
X-Robots-Tag:noindex
X-PUBLISHED-TTL:PT1H
BEGIN:VTIMEZONE
TZID:Europe/Zurich
BEGIN:DAYLIGHT
TZOFFSETFROM:+0100
TZOFFSETTO:+0200
TZNAME:CEST
DTSTART:20230326T010000
END:DAYLIGHT
BEGIN:STANDARD
TZOFFSETFROM:+0200
TZOFFSETTO:+0100
TZNAME:CET
DTSTART:20231029T010000
END:STANDARD
END:VTIMEZONE
BEGIN:VEVENT
DTSTART;VALUE=DATE:20230603
DTEND;VALUE=DATE:20230604
DTSTAMP:20260420T235753
CREATED:20230403T140350Z
LAST-MODIFIED:20230403T140350Z
UID:29374-1685750400-1685836799@compagnie-circonvolution.com
SUMMARY:Hypo\, Glisse & Mi
DESCRIPTION:Représentation du spectacle de cirque « Hypo\, Glisse & Mi » lors du festival « La déambule » organisé par l’association Les Maynats à Bagnères-de-Bigorre (65)
URL:http://compagnie-circonvolution.com/event/hypo-glisse-mi-27/
LOCATION:Bagnères-de-Bigorre\, Bagnères-de-Bigorre\, 65200
ATTACH;FMTTYPE=image/jpeg:http://compagnie-circonvolution.com/wp-content/uploads/2022/03/Hypo-16-9-Ronchin.jpg
END:VEVENT
BEGIN:VEVENT
DTSTART;VALUE=DATE:20230609
DTEND;VALUE=DATE:20230610
DTSTAMP:20260420T235753
CREATED:20230106T092545Z
LAST-MODIFIED:20230106T092859Z
UID:29343-1686268800-1686355199@compagnie-circonvolution.com
SUMMARY:MonOpus 8
DESCRIPTION:Représentation du spectacle « MonOpus 8 » dans le cadre de la soirée cabaret du festival Chap’erlipopette organisé par l’école de cirque L’Hurluberlu à Sainte-Sigolène (42)
URL:http://compagnie-circonvolution.com/event/monopus-8-9/
LOCATION:Cirque L’Hurluberlu\, Sainte-Sigolène\, 42600
ATTACH;FMTTYPE=image/jpeg:http://compagnie-circonvolution.com/wp-content/uploads/2021/11/MonOpus-8-Lucie-Carbonne-16-9.jpg
END:VEVENT
BEGIN:VEVENT
DTSTART;VALUE=DATE:20230610
DTEND;VALUE=DATE:20230611
DTSTAMP:20260420T235753
CREATED:20230106T092655Z
LAST-MODIFIED:20230106T092655Z
UID:29346-1686355200-1686441599@compagnie-circonvolution.com
SUMMARY:Hypo\, Glisse & Mi
DESCRIPTION:Représentation du spectacle de cirque « Hypo\, Glisse & Mi » lors du festival Chap’erlipopette organisé par l’école de cirque L’Hurluberlu à Sainte-Sigolène (42)
URL:http://compagnie-circonvolution.com/event/hypo-glisse-mi-24/
ATTACH;FMTTYPE=image/jpeg:http://compagnie-circonvolution.com/wp-content/uploads/2022/08/Hypo-Interieur-16-9.jpg
END:VEVENT
BEGIN:VEVENT
DTSTART;VALUE=DATE:20230618
DTEND;VALUE=DATE:20230619
DTSTAMP:20260420T235753
CREATED:20230106T092835Z
LAST-MODIFIED:20230106T092835Z
UID:29348-1687046400-1687132799@compagnie-circonvolution.com
SUMMARY:MonOpus 8
DESCRIPTION:Trois représentation du spectacle « MonOpus 8 » au fort de Feyzin (69)
URL:http://compagnie-circonvolution.com/event/monopus-8-10/
LOCATION:Fort de Feyzin\, Feyzin\, 69320
ATTACH;FMTTYPE=image/jpeg:http://compagnie-circonvolution.com/wp-content/uploads/2021/11/MonOpus-8-Lucie-Carbonne-16-9.jpg
END:VEVENT
BEGIN:VEVENT
DTSTART;VALUE=DATE:20230621
DTEND;VALUE=DATE:20230622
DTSTAMP:20260420T235753
CREATED:20230106T093022Z
LAST-MODIFIED:20230106T093022Z
UID:29353-1687305600-1687391999@compagnie-circonvolution.com
SUMMARY:Hypo\, Glisse & Mi
DESCRIPTION:Représentation du spectacle de cirque « Hypo\, Glisse & Mi » à Genas (69)
URL:http://compagnie-circonvolution.com/event/hypo-glisse-mi-25/
LOCATION:Genas
ATTACH;FMTTYPE=image/jpeg:http://compagnie-circonvolution.com/wp-content/uploads/2022/03/Hypo-16-9-Ronchin.jpg
END:VEVENT
BEGIN:VEVENT
DTSTART;VALUE=DATE:20230623
DTEND;VALUE=DATE:20230624
DTSTAMP:20260420T235753
CREATED:20230529T083049Z
LAST-MODIFIED:20230529T083049Z
UID:29391-1687478400-1687564799@compagnie-circonvolution.com
SUMMARY:MonOpus 8
DESCRIPTION:Trois représentation du spectacle « MonOpus 8 » à l’occasion des Championnats de France de cyclisme sur route à Hazebrouck (59)
URL:http://compagnie-circonvolution.com/event/monopus-8-12/
LOCATION:Hazebrouck\, 59
ATTACH;FMTTYPE=image/jpeg:http://compagnie-circonvolution.com/wp-content/uploads/2021/11/MonOpus-8-Lucie-Carbonne-16-9.jpg
END:VEVENT
BEGIN:VEVENT
DTSTART;VALUE=DATE:20230624
DTEND;VALUE=DATE:20230625
DTSTAMP:20260420T235753
CREATED:20230403T140545Z
LAST-MODIFIED:20230403T140825Z
UID:29377-1687564800-1687651199@compagnie-circonvolution.com
SUMMARY:"Hypo\, Glisse & Mi"
DESCRIPTION:Représentation du spectacle de cirque « Hypo\, Glisse & Mi » lors du festival « Festival Regard 9-3 »\, à Bobigny\, cité Hector Berlioz (93)
URL:http://compagnie-circonvolution.com/event/hypo-glisse-mi-28/
LOCATION:Cité Hector Berlioz\, Bobigny\, 93022\, France
ATTACH;FMTTYPE=image/jpeg:http://compagnie-circonvolution.com/wp-content/uploads/2022/03/Hypo-16-9-Ronchin.jpg
END:VEVENT
BEGIN:VEVENT
DTSTART;VALUE=DATE:20230630
DTEND;VALUE=DATE:20230701
DTSTAMP:20260420T235753
CREATED:20230627T094213Z
LAST-MODIFIED:20230627T094213Z
UID:29404-1688083200-1688169599@compagnie-circonvolution.com
SUMMARY:Hypo\, Glisse & Mi
DESCRIPTION:Représentation du spectacle de cirque « Hypo\, Glisse & Mi » à 17h lors du festival « Le loup blanc du futur » organisé par « Les Matrus du Bitume »\, en partenariat avec l’amicale laïque du Crêt de Roche à Saint-Etienne (42)
URL:http://compagnie-circonvolution.com/event/hypo-glisse-mi-34/
LOCATION:Square Dr George Dujol\, Square Dr George Dujol\, Saint-Etienne\, 42000\, France
ATTACH;FMTTYPE=image/jpeg:http://compagnie-circonvolution.com/wp-content/uploads/2022/08/Hypo-Interieur-16-9.jpg
END:VEVENT
END:VCALENDAR