BEGIN:VCALENDAR
VERSION:2.0
PRODID:-//Compagnie Circonvolution - ECPv5.13.0//NONSGML v1.0//EN
CALSCALE:GREGORIAN
METHOD:PUBLISH
X-WR-CALNAME:Compagnie Circonvolution
X-ORIGINAL-URL:http://compagnie-circonvolution.com
X-WR-CALDESC:évènements pour Compagnie Circonvolution
REFRESH-INTERVAL;VALUE=DURATION:PT1H
X-Robots-Tag:noindex
X-PUBLISHED-TTL:PT1H
BEGIN:VTIMEZONE
TZID:Europe/Zurich
BEGIN:DAYLIGHT
TZOFFSETFROM:+0100
TZOFFSETTO:+0200
TZNAME:CEST
DTSTART:20240331T010000
END:DAYLIGHT
BEGIN:STANDARD
TZOFFSETFROM:+0200
TZOFFSETTO:+0100
TZNAME:CET
DTSTART:20241027T010000
END:STANDARD
END:VTIMEZONE
BEGIN:VEVENT
DTSTART;VALUE=DATE:20240414
DTEND;VALUE=DATE:20240415
DTSTAMP:20260420T114647
CREATED:20231109T121727Z
LAST-MODIFIED:20231109T121727Z
UID:29452-1713052800-1713139199@compagnie-circonvolution.com
SUMMARY:Hypo\, Glisse & Mi
DESCRIPTION:Représentation du spectacle de cirque « Hypo\, Glisse & Mi » à 15h à l’école de cirque Mimulus à Fresnay sur Sarthe (72)
URL:http://compagnie-circonvolution.com/event/hypo-glisse-mi-38/
LOCATION:Ecole de cirque Mimulus\, 1\, Place de la Gare\, Fresnay sur Sarthe\, 72130
ATTACH;FMTTYPE=image/jpeg:http://compagnie-circonvolution.com/wp-content/uploads/2022/03/Hypo-16-9-Ronchin.jpg
END:VEVENT
END:VCALENDAR