BEGIN:VCALENDAR
VERSION:2.0
PRODID:-//Compagnie Circonvolution - ECPv5.13.0//NONSGML v1.0//EN
CALSCALE:GREGORIAN
METHOD:PUBLISH
X-WR-CALNAME:Compagnie Circonvolution
X-ORIGINAL-URL:http://compagnie-circonvolution.com
X-WR-CALDESC:évènements pour Compagnie Circonvolution
REFRESH-INTERVAL;VALUE=DURATION:PT1H
X-Robots-Tag:noindex
X-PUBLISHED-TTL:PT1H
BEGIN:VTIMEZONE
TZID:Europe/Zurich
BEGIN:DAYLIGHT
TZOFFSETFROM:+0100
TZOFFSETTO:+0200
TZNAME:CEST
DTSTART:20240331T010000
END:DAYLIGHT
BEGIN:STANDARD
TZOFFSETFROM:+0200
TZOFFSETTO:+0100
TZNAME:CET
DTSTART:20241027T010000
END:STANDARD
END:VTIMEZONE
BEGIN:VEVENT
DTSTART;VALUE=DATE:20240407
DTEND;VALUE=DATE:20240408
DTSTAMP:20260420T101520
CREATED:20231109T121421Z
LAST-MODIFIED:20231109T121421Z
UID:29450-1712448000-1712534399@compagnie-circonvolution.com
SUMMARY:D’une mouche\, un éléphant
DESCRIPTION:Représentation du spectacle « D’une mouche\, un éléphant » à Saint-Bonnet-le-Troncy (69)\, dimanche 7 avril à 10h\, dans le cadre du festival « Circulez\, y’a tout à voir » organisé par HVA Culture\, association culturelle en Haute Vallée d’Azergues.
URL:http://compagnie-circonvolution.com/event/dune-mouche-un-elephant-14/
LOCATION:HVA Culture – Saint Bonnet le Troncy\, Salle des fêtes\, Saint Bonnet le Troncy\, 69870
ATTACH;FMTTYPE=image/jpeg:http://compagnie-circonvolution.com/wp-content/uploads/2023/11/Mouche-2-Elephant-16-9-scaled.jpg
END:VEVENT
END:VCALENDAR