BEGIN:VCALENDAR
VERSION:2.0
PRODID:-//Compagnie Circonvolution - ECPv5.13.0//NONSGML v1.0//EN
CALSCALE:GREGORIAN
METHOD:PUBLISH
X-WR-CALNAME:Compagnie Circonvolution
X-ORIGINAL-URL:http://compagnie-circonvolution.com
X-WR-CALDESC:évènements pour Compagnie Circonvolution
REFRESH-INTERVAL;VALUE=DURATION:PT1H
X-Robots-Tag:noindex
X-PUBLISHED-TTL:PT1H
BEGIN:VTIMEZONE
TZID:Europe/Zurich
BEGIN:DAYLIGHT
TZOFFSETFROM:+0100
TZOFFSETTO:+0200
TZNAME:CEST
DTSTART:20240331T010000
END:DAYLIGHT
BEGIN:STANDARD
TZOFFSETFROM:+0200
TZOFFSETTO:+0100
TZNAME:CET
DTSTART:20241027T010000
END:STANDARD
END:VTIMEZONE
BEGIN:VEVENT
DTSTART;VALUE=DATE:20240404
DTEND;VALUE=DATE:20240407
DTSTAMP:20260420T114640
CREATED:20231109T121241Z
LAST-MODIFIED:20240304T112221Z
UID:29447-1712188800-1712447999@compagnie-circonvolution.com
SUMMARY:D’une mouche\, un éléphant
DESCRIPTION:Cinq représentations du spectacle « D’une mouche\, un éléphant » à la MCL de Gauchy (02)\nJeudi 4 avril à 10h et à 14h15\nVendredi 5 avril à 10h et à 14h45\nSamedi 6 avril à 10h30
URL:http://compagnie-circonvolution.com/event/dune-mouche-un-elephant-13/
LOCATION:MCL de Gauchy\, rue Gabriel Péri\, Gauchy\, 02430
ATTACH;FMTTYPE=image/jpeg:http://compagnie-circonvolution.com/wp-content/uploads/2024/03/Mouche-16-9-scaled.jpg
END:VEVENT
END:VCALENDAR