BEGIN:VCALENDAR
VERSION:2.0
PRODID:-//Compagnie Circonvolution - ECPv5.13.0//NONSGML v1.0//EN
CALSCALE:GREGORIAN
METHOD:PUBLISH
X-WR-CALNAME:Compagnie Circonvolution
X-ORIGINAL-URL:http://compagnie-circonvolution.com
X-WR-CALDESC:évènements pour Compagnie Circonvolution
REFRESH-INTERVAL;VALUE=DURATION:PT1H
X-Robots-Tag:noindex
X-PUBLISHED-TTL:PT1H
BEGIN:VTIMEZONE
TZID:Europe/Zurich
BEGIN:DAYLIGHT
TZOFFSETFROM:+0100
TZOFFSETTO:+0200
TZNAME:CEST
DTSTART:20240331T010000
END:DAYLIGHT
BEGIN:STANDARD
TZOFFSETFROM:+0200
TZOFFSETTO:+0100
TZNAME:CET
DTSTART:20241027T010000
END:STANDARD
END:VTIMEZONE
BEGIN:VEVENT
DTSTART;VALUE=DATE:20240402
DTEND;VALUE=DATE:20240403
DTSTAMP:20260420T131833
CREATED:20240304T112013Z
LAST-MODIFIED:20240304T112252Z
UID:29526-1712016000-1712102399@compagnie-circonvolution.com
SUMMARY:D’une mouche\, un éléphant
DESCRIPTION:Représentation du spectacle « D’une mouche\, un éléphant »\, spectacle circassien et musical accessible dès 2 ans\, à l’hôpital des enfants d’Armentières (59)\, en partenariat avec « Les Blouses Roses » d’Armentières
URL:http://compagnie-circonvolution.com/event/dune-mouche-un-elephant-16/
LOCATION:Hopital des enfants d’Armentières\, 10 bis Pl. du Marché aux Toiles\, Armentières\, 59280
ATTACH;FMTTYPE=image/jpeg:http://compagnie-circonvolution.com/wp-content/uploads/2024/03/Mouche-16-9-scaled.jpg
END:VEVENT
END:VCALENDAR