BEGIN:VCALENDAR
VERSION:2.0
PRODID:-//Compagnie Circonvolution - ECPv5.13.0//NONSGML v1.0//EN
CALSCALE:GREGORIAN
METHOD:PUBLISH
X-WR-CALNAME:Compagnie Circonvolution
X-ORIGINAL-URL:http://compagnie-circonvolution.com
X-WR-CALDESC:évènements pour Compagnie Circonvolution
REFRESH-INTERVAL;VALUE=DURATION:PT1H
X-Robots-Tag:noindex
X-PUBLISHED-TTL:PT1H
BEGIN:VTIMEZONE
TZID:Europe/Zurich
BEGIN:DAYLIGHT
TZOFFSETFROM:+0100
TZOFFSETTO:+0200
TZNAME:CEST
DTSTART:20230326T010000
END:DAYLIGHT
BEGIN:STANDARD
TZOFFSETFROM:+0200
TZOFFSETTO:+0100
TZNAME:CET
DTSTART:20231029T010000
END:STANDARD
END:VTIMEZONE
BEGIN:VEVENT
DTSTART;VALUE=DATE:20230926
DTEND;VALUE=DATE:20230927
DTSTAMP:20260420T223245
CREATED:20230529T083905Z
LAST-MODIFIED:20230529T083905Z
UID:29398-1695686400-1695772799@compagnie-circonvolution.com
SUMMARY:Hypo\, Glisse & Mi
DESCRIPTION:Une représentation du spectacle « Hypo\, Glisse & Mi » au sein de l’EHPAD « La Pastourelle » à Pierrelatte (26)
URL:http://compagnie-circonvolution.com/event/hypo-glisse-mi-32/
LOCATION:EHPAD La Pastourelle\, 14 Av. Dr Charles Jaume\, Pierrelatte\, 26700\, France
ATTACH;FMTTYPE=image/jpeg:http://compagnie-circonvolution.com/wp-content/uploads/2022/08/Hypo-Interieur-16-9.jpg
END:VEVENT
END:VCALENDAR