BEGIN:VCALENDAR
VERSION:2.0
PRODID:-//Compagnie Circonvolution - ECPv5.13.0//NONSGML v1.0//EN
CALSCALE:GREGORIAN
METHOD:PUBLISH
X-WR-CALNAME:Compagnie Circonvolution
X-ORIGINAL-URL:http://compagnie-circonvolution.com
X-WR-CALDESC:évènements pour Compagnie Circonvolution
REFRESH-INTERVAL;VALUE=DURATION:PT1H
X-Robots-Tag:noindex
X-PUBLISHED-TTL:PT1H
BEGIN:VTIMEZONE
TZID:Europe/Zurich
BEGIN:DAYLIGHT
TZOFFSETFROM:+0100
TZOFFSETTO:+0200
TZNAME:CEST
DTSTART:20230326T010000
END:DAYLIGHT
BEGIN:STANDARD
TZOFFSETFROM:+0200
TZOFFSETTO:+0100
TZNAME:CET
DTSTART:20231029T010000
END:STANDARD
END:VTIMEZONE
BEGIN:VEVENT
DTSTART;VALUE=DATE:20230829
DTEND;VALUE=DATE:20230830
DTSTAMP:20260420T205159
CREATED:20230627T095327Z
LAST-MODIFIED:20230627T095327Z
UID:29416-1693267200-1693353599@compagnie-circonvolution.com
SUMMARY:D'une mouche\, un éléphant
DESCRIPTION:Avant-première du spectacle « D’une mouche\, un éléphant »\, spectacle circassien et musical accessible dès 2 ans\, à Badinage Artistique à la Vallée-au-Blé (02)
URL:http://compagnie-circonvolution.com/event/dune-mouche-un-elephant-9/
LOCATION:Badinage Artistique\, 35 Rue de Lemé\, La Vallée-au-Blé\, 02140\, France
ATTACH;FMTTYPE=image/jpeg:http://compagnie-circonvolution.com/wp-content/uploads/2023/01/16-9-Elephants-Beaucoup-d-elephants.jpg
END:VEVENT
END:VCALENDAR