BEGIN:VCALENDAR
VERSION:2.0
PRODID:-//Compagnie Circonvolution - ECPv5.13.0//NONSGML v1.0//EN
CALSCALE:GREGORIAN
METHOD:PUBLISH
X-WR-CALNAME:Compagnie Circonvolution
X-ORIGINAL-URL:http://compagnie-circonvolution.com
X-WR-CALDESC:évènements pour Compagnie Circonvolution
REFRESH-INTERVAL;VALUE=DURATION:PT1H
X-Robots-Tag:noindex
X-PUBLISHED-TTL:PT1H
BEGIN:VTIMEZONE
TZID:Europe/Zurich
BEGIN:DAYLIGHT
TZOFFSETFROM:+0100
TZOFFSETTO:+0200
TZNAME:CEST
DTSTART:20230326T010000
END:DAYLIGHT
BEGIN:STANDARD
TZOFFSETFROM:+0200
TZOFFSETTO:+0100
TZNAME:CET
DTSTART:20231029T010000
END:STANDARD
END:VTIMEZONE
BEGIN:VEVENT
DTSTART;VALUE=DATE:20230802
DTEND;VALUE=DATE:20230803
DTSTAMP:20260421T000313
CREATED:20230403T140946Z
LAST-MODIFIED:20230403T140946Z
UID:29383-1690934400-1691020799@compagnie-circonvolution.com
SUMMARY:Hypo\, Glisse & Mi
DESCRIPTION:Représentation du spectacle de cirque « Hypo\, Glisse & Mi » sur l’esplanade du Gros Caillou\, dans le cadre du festival « Tout l’monde dehors » organisé par la ville de Lyon (69)
URL:http://compagnie-circonvolution.com/event/hypo-glisse-mi-29/
LOCATION:Esplanade du gros caillou\, Lyon\, 69004\, France
ATTACH;FMTTYPE=image/jpeg:http://compagnie-circonvolution.com/wp-content/uploads/2022/03/Hypo-16-9-Ronchin.jpg
END:VEVENT
END:VCALENDAR